BEGIN:VCALENDAR
VERSION:2.0
PRODID:-//Tukios.com/
BEGIN:VEVENT
UID:3dbcd4fb-01b1-418c-981d-79a025e572e1@www.rossifuneralhomeinc.com
DTSTAMP:20260421T223241Z
DTSTART:20260424T143000Z
DTEND:20260424T160000Z
SUMMARY:Visitation
DESCRIPTION:
URL:https://www.rossifuneralhomeinc.com/obituaries/bea-mcpherson
LOCATION: 1118 Cherry Avenue Northeast  Canton OH 44704
GEO:40.8075987;-81.3677375
END:VEVENT
END:VCALENDAR