BEGIN:VCALENDAR
VERSION:2.0
PRODID:-//Tukios.com/
BEGIN:VEVENT
UID:0caac15b-4ccb-4927-90ae-3df05aaf5774@www.rossifuneralhomeinc.com
DTSTAMP:20260421T222925Z
DTSTART:20260424T160000Z
DTEND:20260424T170000Z
SUMMARY:Funeral Service
DESCRIPTION:
URL:https://www.rossifuneralhomeinc.com/obituaries/bea-mcpherson
LOCATION:St. George Antiochian Orthodox Church 1118 Cherry Avenue 
	Northeast  Canton OH 44704
GEO:40.8075987;-81.3677375
END:VEVENT
END:VCALENDAR