BEGIN:VCALENDAR
VERSION:2.0
PRODID:-//Tukios.com/
BEGIN:VEVENT
UID:ac84e3d3-3e0f-40aa-b975-83463a90edff@www.rossifuneralhomeinc.com
DTSTAMP:20260422T000216Z
DTSTART:20260424T140000Z
DTEND:20260424T160000Z
SUMMARY:Visitation
DESCRIPTION:
URL:https://www.rossifuneralhomeinc.com/obituaries/david-obrien
LOCATION: 730 30th St NW  Canton OH 44709
GEO:40.8308397;-81.3782551
END:VEVENT
END:VCALENDAR