BEGIN:VCALENDAR
VERSION:2.0
PRODID:-//Tukios.com/
BEGIN:VEVENT
UID:bed795bc-5c53-4831-bbdf-0d95eb3b5757@www.rossifuneralhomeinc.com
DTSTAMP:20260421T223241Z
DTSTART:20260425T140000Z
DTEND:20260425T150000Z
SUMMARY:Mass
DESCRIPTION:
URL:https://www.rossifuneralhomeinc.com/obituaries/josephine-marchione
LOCATION:St. Peter Catholic Church 726 Cleveland Avenue Northwest  Canton 
	OH 44702
GEO:40.8036718;-81.3743501
END:VEVENT
END:VCALENDAR